BEGIN:VCALENDAR
VERSION:2.0
PRODID:-//ConVerve GmbH//B2BMatch//EN
METHOD:PUBLISH
BEGIN:VEVENT
DTSTART:20260506T100000Z
DTEND:20260508T030000Z
SUMMARY:The Exchange Michigan | Lansing, May 2026
LOCATION:EAGLE EYE GOLF CLUB
DESCRIPTION:
UID:0000001
DTSTAMP:20251222T144136Z
END:VEVENT
END:VCALENDAR
